BEGIN:VCALENDAR
VERSION:2.0
PRODID:-//Squarespace Inc/Squarespace 6//v6//EN
BEGIN:VEVENT
UID:5c49479570a6ad721e599a6a@squarespace.com
DTSTAMP:20200901T043939Z
DTSTART:20151205T053000Z
DTEND:20231205T073000Z
SUMMARY:Rayburn Slow Baked Cheesecake
END:VEVENT
END:VCALENDAR
