BEGIN:VCALENDAR
VERSION:2.0
PRODID:-//Squarespace Inc/Squarespace 6//v6//EN
BEGIN:VEVENT
UID:5c4a72b388251bff11983824@squarespace.com
DTSTAMP:20200901T043920Z
DTSTART:20151204T023000Z
DTEND:20220904T043000Z
SUMMARY:Blueberry Cheesecake
END:VEVENT
END:VCALENDAR
