BEGIN:VCALENDAR
VERSION:2.0
PRODID:-//Squarespace Inc/Squarespace 6//v6//EN
BEGIN:VEVENT
UID:5be50c826d2a737839e5adcd@squarespace.com
DTSTAMP:20181109T042940Z
DTSTART:20151231T043000Z
DTEND:20210828T063000Z
SUMMARY:Kolokithopita
END:VEVENT
END:VCALENDAR
