BEGIN:VCALENDAR
VERSION:2.0
PRODID:-//Squarespace Inc/Squarespace 6//v6//EN
BEGIN:VEVENT
UID:5c09d293b8a0451eb916f2a6@squarespace.com
DTSTAMP:20181207T020828Z
DTSTART:20151229T020000Z
DTEND:20230428T040000Z
SUMMARY:Raspberry Trifle with Meringue
END:VEVENT
END:VCALENDAR
