BEGIN:VCALENDAR
VERSION:2.0
PRODID:-//Squarespace Inc/Squarespace 6//v6//EN
BEGIN:VEVENT
UID:5c09ed62aa4a99d03bca8d44@squarespace.com
DTSTAMP:20181220T014319Z
DTSTART:20151226T040000Z
DTEND:20220526T060000Z
SUMMARY:Rayburn Fruit Pavlova
END:VEVENT
END:VCALENDAR
