BEGIN:VCALENDAR
VERSION:2.0
PRODID:-//Squarespace Inc/Squarespace 6//v6//EN
BEGIN:VEVENT
UID:5c09fb2240ec9a17fe8cf517@squarespace.com
DTSTAMP:20200901T054634Z
DTSTART:20151226T050000Z
DTEND:20230426T070000Z
SUMMARY:Rayburn Pesto and Smoked Salmon Drop Scones
END:VEVENT
END:VCALENDAR
