BEGIN:VCALENDAR
VERSION:2.0
PRODID:-//Squarespace Inc/Squarespace 6//v6//EN
BEGIN:VEVENT
UID:5c170d544ae23769a91e224f@squarespace.com
DTSTAMP:20200904T012553Z
DTSTART:20151225T030000Z
DTEND:20210625T050000Z
SUMMARY:Potato Dauphinoise
END:VEVENT
END:VCALENDAR
