BEGIN:VCALENDAR
VERSION:2.0
PRODID:-//Squarespace Inc/Squarespace 6//v6//EN
BEGIN:VEVENT
UID:5c17135240ec9a9be8cf7b7d@squarespace.com
DTSTAMP:20200904T012454Z
DTSTART:20151223T033000Z
DTEND:20220823T053000Z
SUMMARY:Apple and Date Lattice
END:VEVENT
END:VCALENDAR
