BEGIN:VCALENDAR
VERSION:2.0
PRODID:-//Squarespace Inc/Squarespace 6//v6//EN
BEGIN:VEVENT
UID:5c3c15fb2b6a28e8ada8d3dc@squarespace.com
DTSTAMP:20190115T041746Z
DTSTART:20151218T050000Z
DTEND:20230618T070000Z
SUMMARY:Clafoutis
END:VEVENT
END:VCALENDAR
