BEGIN:VCALENDAR
VERSION:2.0
PRODID:-//Squarespace Inc/Squarespace 6//v6//EN
BEGIN:VEVENT
UID:5cd4e5525c396f0001e241ff@squarespace.com
DTSTAMP:20200901T043740Z
DTSTART:20141216T020000Z
DTEND:20210516T040000Z
SUMMARY:Caroline's Vegan Lemon and Coconut Cake
END:VEVENT
END:VCALENDAR
