BEGIN:VCALENDAR
VERSION:2.0
PRODID:-//Squarespace Inc/Squarespace 6//v6//EN
BEGIN:VEVENT
UID:5c3fd74a4d7a9c40c09cb442@squarespace.com
DTSTAMP:20200901T045923Z
DTSTART:20151213T013000Z
DTEND:20231213T023000Z
SUMMARY:Rayburn Broccoli And Goats’ Cheese Tart
END:VEVENT
END:VCALENDAR
