BEGIN:VCALENDAR
VERSION:2.0
PRODID:-//Squarespace Inc/Squarespace 6//v6//EN
BEGIN:VEVENT
UID:5c3d6b46cd83661ed6c5924a@squarespace.com
DTSTAMP:20200901T044905Z
DTSTART:20151213T053000Z
DTEND:20220213T063000Z
SUMMARY:Halloumi and Chargrilled Pepper Summer Salad
END:VEVENT
END:VCALENDAR
