BEGIN:VCALENDAR
VERSION:2.0
PRODID:-//Squarespace Inc/Squarespace 6//v6//EN
BEGIN:VEVENT
UID:5c87136cf9619ac0885f203d@squarespace.com
DTSTAMP:20190313T235121Z
DTSTART:20151110T023000Z
DTEND:20220929T033000Z
SUMMARY:Rayburn Leek And Gruyère Tart
END:VEVENT
END:VCALENDAR
