BEGIN:VCALENDAR
VERSION:2.0
PRODID:-//Squarespace Inc/Squarespace 6//v6//EN
BEGIN:VEVENT
UID:5c411ffc7ba7fc617ff878c4@squarespace.com
DTSTAMP:20200901T063252Z
DTSTART:20151210T010000Z
DTEND:20220810T030000Z
SUMMARY:Five Bean Casserole
END:VEVENT
END:VCALENDAR
