BEGIN:VCALENDAR
VERSION:2.0
PRODID:-//Squarespace Inc/Squarespace 6//v6//EN
BEGIN:VEVENT
UID:5c899d4ab208fc63550b99f4@squarespace.com
DTSTAMP:20190314T002457Z
DTSTART:20151109T003000Z
DTEND:20200409T023000Z
SUMMARY:Smoked Salmon Scramble
END:VEVENT
END:VCALENDAR
