BEGIN:VCALENDAR
VERSION:2.0
PRODID:-//Squarespace Inc/Squarespace 6//v6//EN
BEGIN:VEVENT
UID:5c8aea68e4966bc5b29d1850@squarespace.com
DTSTAMP:20190315T000048Z
DTSTART:20151106T000000Z
DTEND:20220406T020000Z
SUMMARY:Cranberry Meringue Roulade
END:VEVENT
END:VCALENDAR
