BEGIN:VCALENDAR
VERSION:2.0
PRODID:-//Squarespace Inc/Squarespace 6//v6//EN
BEGIN:VEVENT
UID:5c8aed12419202de3d186553@squarespace.com
DTSTAMP:20190920T020950Z
DTSTART:20151104T003000Z
DTEND:20240904T023000Z
SUMMARY:Rayburn Coffee and Walnut Traybake
END:VEVENT
END:VCALENDAR
