BEGIN:VCALENDAR
VERSION:2.0
PRODID:-//Squarespace Inc/Squarespace 6//v6//EN
BEGIN:VEVENT
UID:5ca16ea04785d33d1aedd272@squarespace.com
DTSTAMP:20190401T015750Z
DTSTART:20151031T020000Z
DTEND:20210430T040000Z
SUMMARY:Hot Cross Bun\, Chocolate and Rum Pudding
END:VEVENT
END:VCALENDAR
