BEGIN:VCALENDAR
VERSION:2.0
PRODID:-//Squarespace Inc/Squarespace 6//v6//EN
BEGIN:VEVENT
UID:5c9d771bef0675000128f1eb@squarespace.com
DTSTAMP:20190329T014554Z
DTSTART:20151101T020000Z
DTEND:20231001T030000Z
SUMMARY:Mary Berry's Seafood Paella
END:VEVENT
END:VCALENDAR
