BEGIN:VCALENDAR
VERSION:2.0
PRODID:-//Squarespace Inc/Squarespace 6//v6//EN
BEGIN:VEVENT
UID:5c6f4ca2419202d5cae8a054@squarespace.com
DTSTAMP:20200904T012408Z
DTSTART:20151121T013000Z
DTEND:20210521T033000Z
SUMMARY:Rayburn Slow Roasted Belly Pork
END:VEVENT
END:VCALENDAR
