BEGIN:VCALENDAR
VERSION:2.0
PRODID:-//Squarespace Inc/Squarespace 6//v6//EN
BEGIN:VEVENT
UID:5c8afc6e4785d3ec8df0068f@squarespace.com
DTSTAMP:20200901T054604Z
DTSTART:20151102T013000Z
DTEND:20210702T033000Z
SUMMARY:Rayburn Jerk Chicken
END:VEVENT
END:VCALENDAR
