BEGIN:VCALENDAR
VERSION:2.0
PRODID:-//Squarespace Inc/Squarespace 6//v6//EN
BEGIN:VEVENT
UID:5cae9b171905f447b2b2243e@squarespace.com
DTSTAMP:20190411T014514Z
DTSTART:20151102T010000Z
DTEND:20230102T020000Z
SUMMARY:Rayburn Hot Cross Buns
END:VEVENT
END:VCALENDAR
