BEGIN:VCALENDAR
VERSION:2.0
PRODID:-//Squarespace Inc/Squarespace 6//v6//EN
BEGIN:VEVENT
UID:5c8b0046652dea8792ceb186@squarespace.com
DTSTAMP:20190315T013402Z
DTSTART:20151102T020000Z
DTEND:20230102T030000Z
SUMMARY:Rayburn German Plum Flan
END:VEVENT
END:VCALENDAR
