BEGIN:VCALENDAR
VERSION:2.0
PRODID:-//Squarespace Inc/Squarespace 6//v6//EN
BEGIN:VEVENT
UID:5c81cde8ee6eb0670bcdf1fb@squarespace.com
DTSTAMP:20190308T022213Z
DTSTART:20151111T023000Z
DTEND:20220511T043000Z
SUMMARY:Baked Alaska with Cherry Swirl Meringue
END:VEVENT
END:VCALENDAR
