BEGIN:VCALENDAR
VERSION:2.0
PRODID:-//Squarespace Inc/Squarespace 6//v6//EN
BEGIN:VEVENT
UID:5c81d3dce4966bf64be7a5c5@squarespace.com
DTSTAMP:20190308T032953Z
DTSTART:20151110T030000Z
DTEND:20210510T050000Z
SUMMARY:Rayburn Hot Chocolate Soufflés
END:VEVENT
END:VCALENDAR
