BEGIN:VCALENDAR
VERSION:2.0
PRODID:-//Squarespace Inc/Squarespace 6//v6//EN
BEGIN:VEVENT
UID:5d43941fa896850001c6510f@squarespace.com
DTSTAMP:20190802T014547Z
DTSTART:20151002T020000Z
DTEND:20240702T030000Z
SUMMARY:Annie Smithers Oven Baked Sponge Pudding
END:VEVENT
END:VCALENDAR
