BEGIN:VCALENDAR
VERSION:2.0
PRODID:-//Squarespace Inc/Squarespace 6//v6//EN
BEGIN:VEVENT
UID:5caea9f4eb39317a0b0308b9@squarespace.com
DTSTAMP:20200901T052836Z
DTSTART:20150103T020000Z
DTEND:20240203T030000Z
SUMMARY:Rayburn Mushroom Strudel
END:VEVENT
END:VCALENDAR
