BEGIN:VCALENDAR
VERSION:2.0
PRODID:-//Squarespace Inc/Squarespace 6//v6//EN
BEGIN:VEVENT
UID:5cae9c51652dea64b68339fa@squarespace.com
DTSTAMP:20190411T015015Z
DTSTART:20150102T010000Z
DTEND:20211002T030000Z
SUMMARY:Creme Egg Brownies
END:VEVENT
END:VCALENDAR
