BEGIN:VCALENDAR
VERSION:2.0
PRODID:-//Squarespace Inc/Squarespace 6//v6//EN
BEGIN:VEVENT
UID:5cb010e6652deaeb04a9c7f6@squarespace.com
DTSTAMP:20200901T063737Z
DTSTART:20150101T033000Z
DTEND:20220501T053000Z
SUMMARY:Mixed Herb Omelette with Spinach\, Feta &amp\; Dukkah
END:VEVENT
END:VCALENDAR
