BEGIN:VCALENDAR
VERSION:2.0
PRODID:-//Squarespace Inc/Squarespace 6//v6//EN
BEGIN:VEVENT
UID:5d6867fee7c52d0001e65ca6@squarespace.com
DTSTAMP:20190830T000852Z
DTSTART:20140909T003000Z
DTEND:20220609T013000Z
SUMMARY:Vegan Coconut Macarons
END:VEVENT
END:VCALENDAR
