BEGIN:VCALENDAR
VERSION:2.0
PRODID:-//Squarespace Inc/Squarespace 6//v6//EN
BEGIN:VEVENT
UID:5d71ded543214100013449c2@squarespace.com
DTSTAMP:20190906T042803Z
DTSTART:20140320T033000Z
DTEND:20220220T043000Z
SUMMARY:Raspberry Pavlova
END:VEVENT
END:VCALENDAR
