BEGIN:VCALENDAR
VERSION:2.0
PRODID:-//Squarespace Inc/Squarespace 6//v6//EN
BEGIN:VEVENT
UID:5cb01869eb393138778759d6@squarespace.com
DTSTAMP:20190412T045253Z
DTSTART:20141231T040000Z
DTEND:20231028T050000Z
SUMMARY:Rayburn Chicken\, Spinach and Pasta Bake
END:VEVENT
END:VCALENDAR
