BEGIN:VCALENDAR
VERSION:2.0
PRODID:-//Squarespace Inc/Squarespace 6//v6//EN
BEGIN:VEVENT
UID:5cb01c7afcf7810001b97c48@squarespace.com
DTSTAMP:20190412T050829Z
DTSTART:20141230T043000Z
DTEND:20220828T063000Z
SUMMARY:Strawberry Soufflés
END:VEVENT
END:VCALENDAR
