BEGIN:VCALENDAR
VERSION:2.0
PRODID:-//Squarespace Inc/Squarespace 6//v6//EN
BEGIN:VEVENT
UID:5cb01ea14192021e5c20a4b0@squarespace.com
DTSTAMP:20190412T051741Z
DTSTART:20141229T043000Z
DTEND:20220428T063000Z
SUMMARY:Rayburn Lemon Flan
END:VEVENT
END:VCALENDAR
