BEGIN:VCALENDAR
VERSION:2.0
PRODID:-//Squarespace Inc/Squarespace 6//v6//EN
BEGIN:VEVENT
UID:5cb81b83c83025e1fdcd1514@squarespace.com
DTSTAMP:20200901T043825Z
DTSTART:20141226T060000Z
DTEND:20220426T080000Z
SUMMARY:Botanical Lemon &amp\; Gin Drizzle Cake
END:VEVENT
END:VCALENDAR
