BEGIN:VCALENDAR
VERSION:2.0
PRODID:-//Squarespace Inc/Squarespace 6//v6//EN
BEGIN:VEVENT
UID:5cb81c0b4785d39315a84355@squarespace.com
DTSTAMP:20200901T063914Z
DTSTART:20141225T060000Z
DTEND:20221025T070000Z
SUMMARY:Butternut Squash\, Pear and Gorgonzola Flatbread Tart
END:VEVENT
END:VCALENDAR
