BEGIN:VCALENDAR
VERSION:2.0
PRODID:-//Squarespace Inc/Squarespace 6//v6//EN
BEGIN:VEVENT
UID:5cb81ca54785d39315a846d5@squarespace.com
DTSTAMP:20200901T043811Z
DTSTART:20141224T060000Z
DTEND:20221224T070000Z
SUMMARY:Classic Rosewater Victoria Sponge
END:VEVENT
END:VCALENDAR
