BEGIN:VCALENDAR
VERSION:2.0
PRODID:-//Squarespace Inc/Squarespace 6//v6//EN
BEGIN:VEVENT
UID:5cb81640971a185215795604@squarespace.com
DTSTAMP:20200904T012243Z
DTSTART:20141223T053000Z
DTEND:20210523T073000Z
SUMMARY:Rayburn Roast Pork
END:VEVENT
END:VCALENDAR
