BEGIN:VCALENDAR
VERSION:2.0
PRODID:-//Squarespace Inc/Squarespace 6//v6//EN
BEGIN:VEVENT
UID:5cb81523652deaf09f308f84@squarespace.com
DTSTAMP:20200901T043755Z
DTSTART:20141223T053000Z
DTEND:20221123T063000Z
SUMMARY:Rayburn Blackberry and Almond Cake
END:VEVENT
END:VCALENDAR
