BEGIN:VCALENDAR
VERSION:2.0
PRODID:-//Squarespace Inc/Squarespace 6//v6//EN
BEGIN:VEVENT
UID:5cb81e44e5e5f0b2261a7b90@squarespace.com
DTSTAMP:20190920T063109Z
DTSTART:20141223T060000Z
DTEND:20221023T070000Z
SUMMARY:Annie's Slow Roasted Quinces
END:VEVENT
END:VCALENDAR
