BEGIN:VCALENDAR
VERSION:2.0
PRODID:-//Squarespace Inc/Squarespace 6//v6//EN
BEGIN:VEVENT
UID:5cb81d7553450adfb39a1afe@squarespace.com
DTSTAMP:20190418T065013Z
DTSTART:20141223T060000Z
DTEND:20220623T080000Z
SUMMARY:AGA Fish and Chips
END:VEVENT
END:VCALENDAR
