BEGIN:VCALENDAR
VERSION:2.0
PRODID:-//Squarespace Inc/Squarespace 6//v6//EN
BEGIN:VEVENT
UID:5cb81818652deaf09f30a2d0@squarespace.com
DTSTAMP:20200901T062510Z
DTSTART:20141221T053000Z
DTEND:20220621T073000Z
SUMMARY:Rayburn Pulled Pork Wraps
END:VEVENT
END:VCALENDAR
