BEGIN:VCALENDAR
VERSION:2.0
PRODID:-//Squarespace Inc/Squarespace 6//v6//EN
BEGIN:VEVENT
UID:5cb81f061905f40c0d527a9e@squarespace.com
DTSTAMP:20190418T065532Z
DTSTART:20141221T060000Z
DTEND:20220621T080000Z
SUMMARY:Moussaka
END:VEVENT
END:VCALENDAR
