BEGIN:VCALENDAR
VERSION:2.0
PRODID:-//Squarespace Inc/Squarespace 6//v6//EN
BEGIN:VEVENT
UID:5cb81f93c83025e1fdcd2bb6@squarespace.com
DTSTAMP:20190418T065843Z
DTSTART:20141220T060000Z
DTEND:20220420T080000Z
SUMMARY:Tarte Au Citron
END:VEVENT
END:VCALENDAR
