BEGIN:VCALENDAR
VERSION:2.0
PRODID:-//Squarespace Inc/Squarespace 6//v6//EN
BEGIN:VEVENT
UID:5cb818c0104c7b979a376bc0@squarespace.com
DTSTAMP:20190418T063053Z
DTSTART:20141220T053000Z
DTEND:20211120T063000Z
SUMMARY:Rayburn Honey and Yoghurt Porridge with Banana
END:VEVENT
END:VCALENDAR
