BEGIN:VCALENDAR
VERSION:2.0
PRODID:-//Squarespace Inc/Squarespace 6//v6//EN
BEGIN:VEVENT
UID:5cb819c715fcc020512fde40@squarespace.com
DTSTAMP:20190418T063442Z
DTSTART:20141219T060000Z
DTEND:20220719T080000Z
SUMMARY:Rayburn Chicken Breasts in Pancetta with Garlic Cream
END:VEVENT
END:VCALENDAR
