BEGIN:VCALENDAR
VERSION:2.0
PRODID:-//Squarespace Inc/Squarespace 6//v6//EN
BEGIN:VEVENT
UID:5cb81ab34785d39315a83c62@squarespace.com
DTSTAMP:20190418T063804Z
DTSTART:20141217T060000Z
DTEND:20230317T070000Z
SUMMARY:Rayburn Bread And Butter Pudding
END:VEVENT
END:VCALENDAR
