BEGIN:VCALENDAR
VERSION:2.0
PRODID:-//Squarespace Inc/Squarespace 6//v6//EN
BEGIN:VEVENT
UID:5d2684774a99270001a8c1d8@squarespace.com
DTSTAMP:20190711T003827Z
DTSTART:20141211T000000Z
DTEND:20210411T020000Z
SUMMARY:Mulled Rose' Wine
END:VEVENT
END:VCALENDAR
