BEGIN:VCALENDAR
VERSION:2.0
PRODID:-//Squarespace Inc/Squarespace 6//v6//EN
BEGIN:VEVENT
UID:5d1ed1f0ae39c80001532cd7@squarespace.com
DTSTAMP:20190705T043032Z
DTSTART:20141211T033000Z
DTEND:20210811T053000Z
SUMMARY:Breakfast Energy Bars
END:VEVENT
END:VCALENDAR
