BEGIN:VCALENDAR
VERSION:2.0
PRODID:-//Squarespace Inc/Squarespace 6//v6//EN
BEGIN:VEVENT
UID:5d88510e14ffd35492b58437@squarespace.com
DTSTAMP:20200901T063726Z
DTSTART:20141106T040000Z
DTEND:20220306T050000Z
SUMMARY:AGA Pancakes
END:VEVENT
END:VCALENDAR
